BEGIN:VCALENDAR
VERSION:2.0
PRODID:-//Zero Waste USA - ECPv6.15.20//NONSGML v1.0//EN
CALSCALE:GREGORIAN
METHOD:PUBLISH
X-WR-CALNAME:Zero Waste USA
X-ORIGINAL-URL:https://zerowasteusa.org
X-WR-CALDESC:Events for Zero Waste USA
REFRESH-INTERVAL;VALUE=DURATION:PT1H
X-Robots-Tag:noindex
X-PUBLISHED-TTL:PT1H
BEGIN:VTIMEZONE
TZID:America/Los_Angeles
BEGIN:DAYLIGHT
TZOFFSETFROM:-0800
TZOFFSETTO:-0700
TZNAME:PDT
DTSTART:20250309T100000
END:DAYLIGHT
BEGIN:STANDARD
TZOFFSETFROM:-0700
TZOFFSETTO:-0800
TZNAME:PST
DTSTART:20251102T090000
END:STANDARD
BEGIN:DAYLIGHT
TZOFFSETFROM:-0800
TZOFFSETTO:-0700
TZNAME:PDT
DTSTART:20260308T100000
END:DAYLIGHT
BEGIN:STANDARD
TZOFFSETFROM:-0700
TZOFFSETTO:-0800
TZNAME:PST
DTSTART:20261101T090000
END:STANDARD
BEGIN:DAYLIGHT
TZOFFSETFROM:-0800
TZOFFSETTO:-0700
TZNAME:PDT
DTSTART:20270314T100000
END:DAYLIGHT
BEGIN:STANDARD
TZOFFSETFROM:-0700
TZOFFSETTO:-0800
TZNAME:PST
DTSTART:20271107T090000
END:STANDARD
END:VTIMEZONE
BEGIN:VEVENT
DTSTART;TZID=America/Los_Angeles:20260630T100000
DTEND;TZID=America/Los_Angeles:20260630T143000
DTSTAMP:20260423T050727
CREATED:20240607T181735Z
LAST-MODIFIED:20260320T154104Z
UID:1534-1782813600-1782829800@zerowasteusa.org
SUMMARY:Introduction to Zero Waste Class
DESCRIPTION:Introduction to Zero Waste (IZW) is a four-hour online (Zoom) introductory class hosted and taught by Zero Waste USA board members and staff. During this class\, students will learn about Zero Waste principles\, the Zero Waste International Alliance’s (ZWIA) Zero Waste Hierarchy\, and the international\, peer-reviewed definition of Zero Waste. Students will also be introduced to Zero Waste principles and planning techniques for businesses\, institutions\, and communities. Upon completion of the class\, students will receive a quiz\, an evaluation\, and a certificate of completion. \nTuesday\, June 30\, 2026 \nZoom Class \nCost:\nGeneral Registration – $100.\nZero Waste USA Affiliates – $50.\nGroup Discounts and Scholarships are available. \nQuestions: email amanda@zerowasteusa.org  \nBy registering for this class\, you agree to receive email communication from Zero Waste USA. \nClick here to register! \nIs your organization interested in becoming a Zero Waste USA Affiliate? \nClick here to get more information (affiliate webpage) \nClick here to apply to be a Zero Waste USA Affiliate. \nEmail Amanda with questions.
URL:https://zerowasteusa.org/event/introduction-to-zero-waste-class/
LOCATION:Virtual\, CA\, United States
CATEGORIES:Introduction to Zero Waste
ATTACH;FMTTYPE=image/jpeg:https://zerowasteusa.org/wp-content/uploads/2023/04/glass-earth-globe-moss-sunlight.jpg
END:VEVENT
END:VCALENDAR